Package: SpatialFeatureExperiment Version: 1.10.1 Command: rm -rf SpatialFeatureExperiment.buildbin-libdir && mkdir SpatialFeatureExperiment.buildbin-libdir && /Users/biocbuild/BBS/utils/build-universal.sh SpatialFeatureExperiment_1.10.1.tar.gz /Library/Frameworks/R.framework/Resources/bin/R SpatialFeatureExperiment.buildbin-libdir StartedAt: 2025-10-15 20:39:02 -0400 (Wed, 15 Oct 2025) EndedAt: 2025-10-15 20:40:14 -0400 (Wed, 15 Oct 2025) EllapsedTime: 71.8 seconds RetCode: 0 Status: OK PackageFile: SpatialFeatureExperiment_1.10.1.tgz PackageFileSize: 2.909 MiB