Package: SpatialExperimentIO Version: 1.0.0 Command: /home/biocbuild/bbs-3.21-bioc/R/bin/R CMD INSTALL SpatialExperimentIO StartedAt: 2025-10-15 15:48:22 -0400 (Wed, 15 Oct 2025) EndedAt: 2025-10-15 15:48:52 -0400 (Wed, 15 Oct 2025) EllapsedTime: 30.0 seconds RetCode: 0 Status: OK