Package: SpatialExperimentIO Version: 1.0.0 Command: /home/biocbuild/bbs-3.21-bioc/R/bin/R CMD build --keep-empty-dirs --no-resave-data SpatialExperimentIO StartedAt: 2025-10-15 20:03:41 -0400 (Wed, 15 Oct 2025) EndedAt: 2025-10-15 20:04:27 -0400 (Wed, 15 Oct 2025) EllapsedTime: 46.0 seconds RetCode: 0 Status: OK PackageFile: SpatialExperimentIO_1.0.0.tar.gz PackageFileSize: 608.1 KiB