Package: SpatialExperimentIO Version: 1.0.0 Command: /home/biocbuild/R/R/bin/R CMD check --install=check:SpatialExperimentIO.install-out.txt --library=/home/biocbuild/R/R/site-library --no-vignettes --timings SpatialExperimentIO_1.0.0.tar.gz StartedAt: 2025-10-14 14:37:23 -0000 (Tue, 14 Oct 2025) EndedAt: 2025-10-14 14:43:00 -0000 (Tue, 14 Oct 2025) EllapsedTime: 337.3 seconds RetCode: 0 Status: OK CheckDir: SpatialExperimentIO.Rcheck Warnings: 0