Package: SpatialExperimentIO Version: 1.0.0 Command: /Library/Frameworks/R.framework/Resources/bin/R CMD build --keep-empty-dirs --no-resave-data SpatialExperimentIO StartedAt: 2025-10-14 10:05:10 -0400 (Tue, 14 Oct 2025) EndedAt: 2025-10-14 10:06:11 -0400 (Tue, 14 Oct 2025) EllapsedTime: 61.2 seconds RetCode: 0 Status: OK PackageFile: SpatialExperimentIO_1.0.0.tar.gz PackageFileSize: 608.1 KiB