Package: SpatialExperimentIO Version: 1.0.0 Command: rm -rf SpatialExperimentIO.buildbin-libdir && mkdir SpatialExperimentIO.buildbin-libdir && /Users/biocbuild/BBS/utils/build-universal.sh SpatialExperimentIO_1.0.0.tar.gz /Library/Frameworks/R.framework/Resources/bin/R SpatialExperimentIO.buildbin-libdir StartedAt: 2025-10-15 20:38:46 -0400 (Wed, 15 Oct 2025) EndedAt: 2025-10-15 20:39:27 -0400 (Wed, 15 Oct 2025) EllapsedTime: 41.6 seconds RetCode: 0 Status: OK PackageFile: SpatialExperimentIO_1.0.0.tgz PackageFileSize: 648.3 KiB