Package: SpatialExperiment Version: 1.18.1 Command: /home/biocbuild/bbs-3.21-bioc/R/bin/R CMD build --keep-empty-dirs --no-resave-data SpatialExperiment StartedAt: 2025-10-15 20:03:33 -0400 (Wed, 15 Oct 2025) EndedAt: 2025-10-15 20:04:31 -0400 (Wed, 15 Oct 2025) EllapsedTime: 58.1 seconds RetCode: 0 Status: OK PackageFile: SpatialExperiment_1.18.1.tar.gz PackageFileSize: 5.156 MiB