Package: SpatialExperiment Version: 1.18.1 Command: /Library/Frameworks/R.framework/Resources/bin/R CMD INSTALL SpatialExperiment StartedAt: 2025-10-13 15:35:36 -0400 (Mon, 13 Oct 2025) EndedAt: 2025-10-13 15:36:30 -0400 (Mon, 13 Oct 2025) EllapsedTime: 53.7 seconds RetCode: 0 Status: OK