Package: SpatialExperiment Version: 1.18.1 Command: /Library/Frameworks/R.framework/Resources/bin/R CMD build --keep-empty-dirs --no-resave-data SpatialExperiment StartedAt: 2025-10-13 22:52:02 -0400 (Mon, 13 Oct 2025) EndedAt: 2025-10-13 22:54:14 -0400 (Mon, 13 Oct 2025) EllapsedTime: 132.0 seconds RetCode: 0 Status: OK PackageFile: SpatialExperiment_1.18.1.tar.gz PackageFileSize: 5.687 MiB