Package: SpatialExperiment Version: 1.18.1 Command: /home/biocbuild/R/R/bin/R CMD INSTALL SpatialExperiment StartedAt: 2025-10-13 20:32:38 -0000 (Mon, 13 Oct 2025) EndedAt: 2025-10-13 20:33:14 -0000 (Mon, 13 Oct 2025) EllapsedTime: 35.7 seconds RetCode: 0 Status: OK