Package: SpatialExperiment Version: 1.18.1 Command: /home/biocbuild/R/R/bin/R CMD build --keep-empty-dirs --no-resave-data SpatialExperiment StartedAt: 2025-10-14 04:57:05 -0000 (Tue, 14 Oct 2025) EndedAt: 2025-10-14 04:58:29 -0000 (Tue, 14 Oct 2025) EllapsedTime: 84.1 seconds RetCode: 0 Status: OK PackageFile: SpatialExperiment_1.18.1.tar.gz PackageFileSize: 5.223 MiB