Package: SpatialExperiment Version: 1.18.1 Command: rm -rf SpatialExperiment.buildbin-libdir && mkdir SpatialExperiment.buildbin-libdir && /Users/biocbuild/BBS/utils/build-universal.sh SpatialExperiment_1.18.1.tar.gz /Library/Frameworks/R.framework/Resources/bin/R SpatialExperiment.buildbin-libdir StartedAt: 2025-10-15 20:38:37 -0400 (Wed, 15 Oct 2025) EndedAt: 2025-10-15 20:39:12 -0400 (Wed, 15 Oct 2025) EllapsedTime: 35.0 seconds RetCode: 0 Status: OK PackageFile: SpatialExperiment_1.18.1.tgz PackageFileSize: 6.01 MiB