Package: SpatialDecon Version: 1.18.0 Command: /Library/Frameworks/R.framework/Resources/bin/R CMD INSTALL SpatialDecon StartedAt: 2025-10-13 16:50:33 -0400 (Mon, 13 Oct 2025) EndedAt: 2025-10-13 16:51:26 -0400 (Mon, 13 Oct 2025) EllapsedTime: 52.4 seconds RetCode: 0 Status: OK