Package: SpatialDecon Version: 1.18.0 Command: /Library/Frameworks/R.framework/Resources/bin/R CMD build --keep-empty-dirs --no-resave-data SpatialDecon StartedAt: 2025-10-14 10:03:36 -0400 (Tue, 14 Oct 2025) EndedAt: 2025-10-14 10:06:28 -0400 (Tue, 14 Oct 2025) EllapsedTime: 172.9 seconds RetCode: 0 Status: OK PackageFile: SpatialDecon_1.18.0.tar.gz PackageFileSize: 5.278 MiB