Package: SpatialCPie Version: 1.24.0 Command: /home/biocbuild/R/R/bin/R CMD INSTALL SpatialCPie StartedAt: 2025-10-13 20:29:56 -0000 (Mon, 13 Oct 2025) EndedAt: 2025-10-13 20:30:32 -0000 (Mon, 13 Oct 2025) EllapsedTime: 35.8 seconds RetCode: 0 Status: OK