Package: SparseSignatures Version: 2.18.0 Command: /home/biocbuild/bbs-3.21-bioc/R/bin/R CMD build --keep-empty-dirs --no-resave-data SparseSignatures StartedAt: 2025-10-15 20:02:23 -0400 (Wed, 15 Oct 2025) EndedAt: 2025-10-15 20:06:09 -0400 (Wed, 15 Oct 2025) EllapsedTime: 225.2 seconds RetCode: 0 Status: OK PackageFile: SparseSignatures_2.18.0.tar.gz PackageFileSize: 1.469 MiB