Package: SparseSignatures Version: 2.18.0 Command: /Library/Frameworks/R.framework/Resources/bin/R CMD INSTALL SparseSignatures StartedAt: 2025-10-13 15:52:25 -0400 (Mon, 13 Oct 2025) EndedAt: 2025-10-13 15:53:45 -0400 (Mon, 13 Oct 2025) EllapsedTime: 80.0 seconds RetCode: 0 Status: OK