Package: SparseSignatures Version: 2.18.0 Command: /Library/Frameworks/R.framework/Resources/bin/R CMD build --keep-empty-dirs --no-resave-data SparseSignatures StartedAt: 2025-10-13 22:50:52 -0400 (Mon, 13 Oct 2025) EndedAt: 2025-10-13 23:01:02 -0400 (Mon, 13 Oct 2025) EllapsedTime: 610.7 seconds RetCode: 0 Status: OK PackageFile: SparseSignatures_2.18.0.tar.gz PackageFileSize: 1.462 MiB