Package: SparseSignatures Version: 2.18.0 Command: rm -rf SparseSignatures.buildbin-libdir && mkdir SparseSignatures.buildbin-libdir && /Users/biocbuild/BBS/utils/build-universal.sh SparseSignatures_2.18.0.tar.gz /Library/Frameworks/R.framework/Resources/bin/R SparseSignatures.buildbin-libdir StartedAt: 2025-10-14 14:51:05 -0400 (Tue, 14 Oct 2025) EndedAt: 2025-10-14 14:52:34 -0400 (Tue, 14 Oct 2025) EllapsedTime: 89.3 seconds RetCode: 0 Status: OK PackageFile: SparseSignatures_2.18.0.tgz PackageFileSize: 1.59 MiB