Package: SparseSignatures Version: 2.18.0 Command: /home/biocbuild/R/R/bin/R CMD INSTALL SparseSignatures StartedAt: 2025-10-13 20:42:43 -0000 (Mon, 13 Oct 2025) EndedAt: 2025-10-13 20:43:40 -0000 (Mon, 13 Oct 2025) EllapsedTime: 57.6 seconds RetCode: 0 Status: OK