Package: SparseSignatures Version: 2.18.0 Command: /Library/Frameworks/R.framework/Resources/bin/R CMD INSTALL SparseSignatures StartedAt: 2025-04-21 15:16:43 -0400 (Mon, 21 Apr 2025) EndedAt: 2025-04-21 15:17:00 -0400 (Mon, 21 Apr 2025) EllapsedTime: 16.5 seconds RetCode: 0 Status: OK