Package: SparseSignatures Version: 2.18.0 Command: /Library/Frameworks/R.framework/Resources/bin/R CMD build --keep-empty-dirs --no-resave-data SparseSignatures StartedAt: 2025-10-14 10:00:34 -0400 (Tue, 14 Oct 2025) EndedAt: 2025-10-14 10:05:19 -0400 (Tue, 14 Oct 2025) EllapsedTime: 285.1 seconds RetCode: 0 Status: OK PackageFile: SparseSignatures_2.18.0.tar.gz PackageFileSize: 1.462 MiB