Package: SparseArray Version: 1.8.1 Command: /home/biocbuild/bbs-3.21-bioc/R/bin/R CMD check --install=check:SparseArray.install-out.txt --library=/home/biocbuild/bbs-3.21-bioc/R/site-library --timings SparseArray_1.8.1.tar.gz StartedAt: 2025-10-16 03:51:04 -0400 (Thu, 16 Oct 2025) EndedAt: 2025-10-16 03:55:35 -0400 (Thu, 16 Oct 2025) EllapsedTime: 271.2 seconds RetCode: 0 Status: OK CheckDir: SparseArray.Rcheck Warnings: 0