Package: SparseArray Version: 1.8.1 Command: rm -rf SparseArray.buildbin-libdir && mkdir SparseArray.buildbin-libdir && /Users/biocbuild/BBS/utils/build-universal.sh SparseArray_1.8.1.tar.gz /Library/Frameworks/R.framework/Resources/bin/R SparseArray.buildbin-libdir StartedAt: 2025-10-14 14:50:59 -0400 (Tue, 14 Oct 2025) EndedAt: 2025-10-14 14:52:31 -0400 (Tue, 14 Oct 2025) EllapsedTime: 91.6 seconds RetCode: 0 Status: OK PackageFile: SparseArray_1.8.1.tgz PackageFileSize: 1.791 MiB