Package: SparseArray Version: 1.8.1 Command: /home/biocbuild/R/R/bin/R CMD INSTALL SparseArray StartedAt: 2025-10-13 20:26:56 -0000 (Mon, 13 Oct 2025) EndedAt: 2025-10-13 20:27:46 -0000 (Mon, 13 Oct 2025) EllapsedTime: 50.4 seconds RetCode: 0 Status: OK