Package: SparseArray Version: 1.8.1 Command: /home/biocbuild/R/R/bin/R CMD build --keep-empty-dirs --no-resave-data SparseArray StartedAt: 2025-10-14 04:54:29 -0000 (Tue, 14 Oct 2025) EndedAt: 2025-10-14 04:55:54 -0000 (Tue, 14 Oct 2025) EllapsedTime: 85.0 seconds RetCode: 0 Status: OK PackageFile: SparseArray_1.8.1.tar.gz PackageFileSize: 481.5 KiB