Package: Spaniel Version: 1.22.0 Command: /home/biocbuild/R/R/bin/R CMD INSTALL Spaniel StartedAt: 2025-10-13 21:16:13 -0000 (Mon, 13 Oct 2025) EndedAt: 2025-10-13 21:17:14 -0000 (Mon, 13 Oct 2025) EllapsedTime: 60.8 seconds RetCode: 0 Status: OK