Package: SomaticSignatures Version: 2.44.0 Command: /home/biocbuild/bbs-3.21-bioc/R/bin/R CMD build --keep-empty-dirs --no-resave-data SomaticSignatures StartedAt: 2025-10-15 20:00:21 -0400 (Wed, 15 Oct 2025) EndedAt: 2025-10-15 20:03:11 -0400 (Wed, 15 Oct 2025) EllapsedTime: 170.1 seconds RetCode: 0 Status: OK PackageFile: SomaticSignatures_2.44.0.tar.gz PackageFileSize: 2.182 MiB