Package: SomaticSignatures Version: 2.44.0 Command: /home/biocbuild/R/R/bin/R CMD INSTALL SomaticSignatures StartedAt: 2025-10-13 21:01:29 -0000 (Mon, 13 Oct 2025) EndedAt: 2025-10-13 21:02:51 -0000 (Mon, 13 Oct 2025) EllapsedTime: 81.9 seconds RetCode: 0 Status: OK