Package: SomaticSignatures Version: 2.44.0 Command: /home/biocbuild/R/R/bin/R CMD build --keep-empty-dirs --no-resave-data SomaticSignatures StartedAt: 2025-10-14 04:51:45 -0000 (Tue, 14 Oct 2025) EndedAt: 2025-10-14 04:55:43 -0000 (Tue, 14 Oct 2025) EllapsedTime: 238.1 seconds RetCode: 0 Status: OK PackageFile: SomaticSignatures_2.44.0.tar.gz PackageFileSize: 1.987 MiB