Package: SomaticSignatures Version: 2.44.0 Command: /Library/Frameworks/R.framework/Resources/bin/R CMD build --keep-empty-dirs --no-resave-data SomaticSignatures StartedAt: 2025-10-14 09:51:16 -0400 (Tue, 14 Oct 2025) EndedAt: 2025-10-14 09:54:54 -0400 (Tue, 14 Oct 2025) EllapsedTime: 218.1 seconds RetCode: 0 Status: OK PackageFile: SomaticSignatures_2.44.0.tar.gz PackageFileSize: 2.818 MiB