Package: SingleCellSignalR Version: 1.20.0 Command: /home/biocbuild/bbs-3.21-bioc/R/bin/R CMD INSTALL SingleCellSignalR StartedAt: 2025-10-15 15:56:36 -0400 (Wed, 15 Oct 2025) EndedAt: 2025-10-15 15:57:14 -0400 (Wed, 15 Oct 2025) EllapsedTime: 37.5 seconds RetCode: 0 Status: OK