Package: SingleCellSignalR Version: 1.20.0 Command: /home/biocbuild/bbs-3.21-bioc/R/bin/R CMD build --keep-empty-dirs --no-resave-data SingleCellSignalR StartedAt: 2025-10-15 19:57:18 -0400 (Wed, 15 Oct 2025) EndedAt: 2025-10-15 19:58:33 -0400 (Wed, 15 Oct 2025) EllapsedTime: 75.1 seconds RetCode: 0 Status: OK PackageFile: SingleCellSignalR_1.20.0.tar.gz PackageFileSize: 4.321 MiB