Package: SingleCellSignalR Version: 1.20.0 Command: /Library/Frameworks/R.framework/Resources/bin/R CMD build --keep-empty-dirs --no-resave-data SingleCellSignalR StartedAt: 2025-10-13 22:43:18 -0400 (Mon, 13 Oct 2025) EndedAt: 2025-10-13 22:46:16 -0400 (Mon, 13 Oct 2025) EllapsedTime: 177.5 seconds RetCode: 0 Status: OK PackageFile: SingleCellSignalR_1.20.0.tar.gz PackageFileSize: 4.498 MiB