Package: SingleCellSignalR Version: 1.20.0 Command: rm -rf SingleCellSignalR.buildbin-libdir && mkdir SingleCellSignalR.buildbin-libdir && /Users/biocbuild/BBS/utils/build-universal.sh SingleCellSignalR_1.20.0.tar.gz /Library/Frameworks/R.framework/Resources/bin/R SingleCellSignalR.buildbin-libdir StartedAt: 2025-10-14 14:48:54 -0400 (Tue, 14 Oct 2025) EndedAt: 2025-10-14 14:50:32 -0400 (Tue, 14 Oct 2025) EllapsedTime: 98.4 seconds RetCode: 0 Status: OK PackageFile: SingleCellSignalR_1.20.0.tgz PackageFileSize: 6.694 MiB