Package: SingleCellSignalR Version: 1.20.0 Command: /home/biocbuild/R/R/bin/R CMD INSTALL SingleCellSignalR StartedAt: 2025-10-13 21:16:57 -0000 (Mon, 13 Oct 2025) EndedAt: 2025-10-13 21:17:54 -0000 (Mon, 13 Oct 2025) EllapsedTime: 57.3 seconds RetCode: 0 Status: OK