Package: SingleCellSignalR Version: 1.20.0 Command: /home/biocbuild/R/R/bin/R CMD build --keep-empty-dirs --no-resave-data SingleCellSignalR StartedAt: 2025-10-14 04:46:49 -0000 (Tue, 14 Oct 2025) EndedAt: 2025-10-14 04:48:39 -0000 (Tue, 14 Oct 2025) EllapsedTime: 110.1 seconds RetCode: 0 Status: OK PackageFile: SingleCellSignalR_1.20.0.tar.gz PackageFileSize: 4.311 MiB