Package: SingleCellSignalR Version: 1.20.0 Command: /Library/Frameworks/R.framework/Resources/bin/R CMD INSTALL SingleCellSignalR StartedAt: 2025-10-13 18:20:21 -0400 (Mon, 13 Oct 2025) EndedAt: 2025-10-13 18:21:12 -0400 (Mon, 13 Oct 2025) EllapsedTime: 50.9 seconds RetCode: 0 Status: OK