Package: SingleCellSignalR Version: 1.20.0 Command: rm -rf SingleCellSignalR.buildbin-libdir && mkdir SingleCellSignalR.buildbin-libdir && /Users/biocbuild/BBS/utils/build-universal.sh SingleCellSignalR_1.20.0.tar.gz /Library/Frameworks/R.framework/Resources/bin/R SingleCellSignalR.buildbin-libdir StartedAt: 2025-10-15 20:34:03 -0400 (Wed, 15 Oct 2025) EndedAt: 2025-10-15 20:35:02 -0400 (Wed, 15 Oct 2025) EllapsedTime: 58.8 seconds RetCode: 0 Status: OK PackageFile: SingleCellSignalR_1.20.0.tgz PackageFileSize: 6.596 MiB