Package: SingleCellExperiment Version: 1.30.1 Command: /home/biocbuild/R/R/bin/R CMD INSTALL SingleCellExperiment StartedAt: 2025-10-13 20:31:07 -0000 (Mon, 13 Oct 2025) EndedAt: 2025-10-13 20:31:45 -0000 (Mon, 13 Oct 2025) EllapsedTime: 37.8 seconds RetCode: 0 Status: OK