Package: SingleCellExperiment Version: 1.30.1 Command: /home/biocbuild/R/R/bin/R CMD build --keep-empty-dirs --no-resave-data SingleCellExperiment StartedAt: 2025-10-14 04:46:23 -0000 (Tue, 14 Oct 2025) EndedAt: 2025-10-14 04:48:20 -0000 (Tue, 14 Oct 2025) EllapsedTime: 117.1 seconds RetCode: 0 Status: OK PackageFile: SingleCellExperiment_1.30.1.tar.gz PackageFileSize: 1.131 MiB