Package: SingleCellExperiment Version: 1.30.1 Command: /Library/Frameworks/R.framework/Resources/bin/R CMD INSTALL SingleCellExperiment StartedAt: 2025-10-13 16:09:27 -0400 (Mon, 13 Oct 2025) EndedAt: 2025-10-13 16:09:57 -0400 (Mon, 13 Oct 2025) EllapsedTime: 30.4 seconds RetCode: 0 Status: OK