Package: SingleCellExperiment Version: 1.30.1 Command: /Library/Frameworks/R.framework/Resources/bin/R CMD build --keep-empty-dirs --no-resave-data SingleCellExperiment StartedAt: 2025-10-14 09:37:29 -0400 (Tue, 14 Oct 2025) EndedAt: 2025-10-14 09:39:07 -0400 (Tue, 14 Oct 2025) EllapsedTime: 98.7 seconds RetCode: 0 Status: OK PackageFile: SingleCellExperiment_1.30.1.tar.gz PackageFileSize: 962.2 KiB