Package: SingleCellExperiment Version: 1.30.1 Command: rm -rf SingleCellExperiment.buildbin-libdir && mkdir SingleCellExperiment.buildbin-libdir && /Users/biocbuild/BBS/utils/build-universal.sh SingleCellExperiment_1.30.1.tar.gz /Library/Frameworks/R.framework/Resources/bin/R SingleCellExperiment.buildbin-libdir StartedAt: 2025-10-15 20:34:01 -0400 (Wed, 15 Oct 2025) EndedAt: 2025-10-15 20:34:36 -0400 (Wed, 15 Oct 2025) EllapsedTime: 34.8 seconds RetCode: 0 Status: OK PackageFile: SingleCellExperiment_1.30.1.tgz PackageFileSize: 1.92 MiB