Package: SingleCellAlleleExperiment Version: 1.4.1 Command: rm -rf SingleCellAlleleExperiment.buildbin-libdir && mkdir SingleCellAlleleExperiment.buildbin-libdir && /Users/biocbuild/BBS/utils/build-universal.sh SingleCellAlleleExperiment_1.4.1.tar.gz /Library/Frameworks/R.framework/Resources/bin/R SingleCellAlleleExperiment.buildbin-libdir StartedAt: 2025-10-15 20:34:00 -0400 (Wed, 15 Oct 2025) EndedAt: 2025-10-15 20:34:33 -0400 (Wed, 15 Oct 2025) EllapsedTime: 32.7 seconds RetCode: 0 Status: OK PackageFile: SingleCellAlleleExperiment_1.4.1.tgz PackageFileSize: 2.122 MiB