Package: SimFFPE Version: 1.20.0 Command: /home/biocbuild/R/R/bin/R CMD build --keep-empty-dirs --no-resave-data SimFFPE StartedAt: 2025-10-14 04:44:32 -0000 (Tue, 14 Oct 2025) EndedAt: 2025-10-14 04:46:51 -0000 (Tue, 14 Oct 2025) EllapsedTime: 139.1 seconds RetCode: 0 Status: OK PackageFile: SimFFPE_1.20.0.tar.gz PackageFileSize: 741.2 KiB