Package: SimFFPE Version: 1.20.0 Command: /Library/Frameworks/R.framework/Resources/bin/R CMD INSTALL SimFFPE StartedAt: 2025-10-13 16:01:08 -0400 (Mon, 13 Oct 2025) EndedAt: 2025-10-13 16:01:24 -0400 (Mon, 13 Oct 2025) EllapsedTime: 15.8 seconds RetCode: 0 Status: OK