Package: SimFFPE Version: 1.20.0 Command: rm -rf SimFFPE.buildbin-libdir && mkdir SimFFPE.buildbin-libdir && /Users/biocbuild/BBS/utils/build-universal.sh SimFFPE_1.20.0.tar.gz /Library/Frameworks/R.framework/Resources/bin/R SimFFPE.buildbin-libdir StartedAt: 2025-10-15 20:32:47 -0400 (Wed, 15 Oct 2025) EndedAt: 2025-10-15 20:33:05 -0400 (Wed, 15 Oct 2025) EllapsedTime: 18.2 seconds RetCode: 0 Status: OK PackageFile: SimFFPE_1.20.0.tgz PackageFileSize: 807.5 KiB