Package: SimBu Version: 1.10.0 Command: /home/biocbuild/R/R/bin/R CMD INSTALL SimBu StartedAt: 2025-10-13 20:29:58 -0000 (Mon, 13 Oct 2025) EndedAt: 2025-10-13 20:30:06 -0000 (Mon, 13 Oct 2025) EllapsedTime: 7.2 seconds RetCode: 0 Status: OK