Package: SimBu Version: 1.10.0 Command: /home/biocbuild/R/R/bin/R CMD build --keep-empty-dirs --no-resave-data SimBu StartedAt: 2025-10-14 04:44:23 -0000 (Tue, 14 Oct 2025) EndedAt: 2025-10-14 04:45:21 -0000 (Tue, 14 Oct 2025) EllapsedTime: 58.0 seconds RetCode: 0 Status: OK PackageFile: SimBu_1.10.0.tar.gz PackageFileSize: 204 KiB